BEGIN:VCALENDAR
VERSION:2.0
PRODID:icalendar-ruby
CALSCALE:GREGORIAN
BEGIN:VEVENT
DTSTAMP:20260412T191619Z
UID:event-occurrence-722a0418-3d22-44ec-a973-3d4631414687-event-c319b727-94
 95-402d-82a2-727b1d7a8ffc@termine-e
DTSTART:20260607T170000
DTEND:20260607T000000
CLASS:PUBLIC
DESCRIPTION:Pn. WeidnerMusik: Cirkel
LOCATION:St. Johannes-Kirche\, Schulstraße 33\, 31812\, Bad Pyrmont
SUMMARY:Gottesdienst
END:VEVENT
END:VCALENDAR
