BEGIN:VCALENDAR
VERSION:2.0
PRODID:icalendar-ruby
CALSCALE:GREGORIAN
BEGIN:VEVENT
DTSTAMP:20250902T162442Z
UID:event-occurrence-8562a448-2d5a-4d77-a465-a74c9b77d1bf-event-c1f71a4a-81
 02-4259-b34b-a1cfb165aa34@termine-e
DTSTART:20251111T170000
DTEND:20251111T000000
CLASS:PUBLIC
DESCRIPTION:Die Kirchengemeinden St. Godehard und Bethlehem und das Freizei
 theim Linden laden ein zum diesjährigen St. Martinsumzug durch Linden-Nor
 d. Beginn ist am Dienstag den 11. November 2025 um 17 Uhr in der Bethlehem
 kirche\, Bethlehemplatz 1 mit dem Kinderchor Linden der Musikschule unter 
 Leitung von Ulrike Gramann und dem Bläserensenmble „Windstärke 12“. 
 Im Anschluss geht es mit Pferd und Reiter und „Windstärke 12“ zur Ben
 nokirche\, Offsteinstr. 8. Dort werden Martinshörnchen zum Teilen verteil
 t.
LOCATION:Bethlehemkirche\, Bethlehemplatz 1\, 30451\, Hannover
SUMMARY:Laternenumzug durch Linden-Nord
END:VEVENT
END:VCALENDAR
