BEGIN:VCALENDAR
VERSION:2.0
PRODID:icalendar-ruby
CALSCALE:GREGORIAN
BEGIN:VEVENT
DTSTAMP:20260310T135016Z
UID:event-occurrence-d521c3dc-05cd-41d8-9af6-ec7fa50689d4-event-c1b6910f-ef
 20-4126-992b-a930e48ea1c9@termine-e
DTSTART:20260315T190000
DTEND:20260315T000000
CLASS:PUBLIC
DESCRIPTION:mit Pastorin J. Flade
LOCATION:Emmaus-Kirchengemeinde Leezdorf\, Farnweg 22\, 26529\, Leezdorf
SUMMARY:Gottesdienst mit Vorstellung der Konfirmanden
END:VEVENT
END:VCALENDAR
