BEGIN:VCALENDAR
VERSION:2.0
PRODID:icalendar-ruby
CALSCALE:GREGORIAN
BEGIN:VEVENT
DTSTAMP:20260314T161057Z
UID:event-occurrence-da84c3f9-9d18-4319-8994-faf4a021b93d-event-c0759afb-f6
 67-498e-a893-a9708297b389@termine-e
DTSTART:20260605T190000
DTEND:20260605T000000
CLASS:PUBLIC
DESCRIPTION:Brandneues Programm mit gefühlvollen Balladen und Pop-songs in
  einem natürlichen\,unverstärkten Klangbild – begleitet am Klavier von
  Anja Hinske-Schwedthelm (Leitung).
LOCATION:Lukaskirche\, Schlesierstr. 5\, 31139\, Hildesheim
SUMMARY:VocaBella unplugged
END:VEVENT
END:VCALENDAR
