BEGIN:VCALENDAR
VERSION:2.0
PRODID:icalendar-ruby
CALSCALE:GREGORIAN
BEGIN:VEVENT
DTSTAMP:20260329T132428Z
UID:event-occurrence-d63f9a70-00e6-4284-98ba-f17bdca0273e-event-bfc9373f-ce
 c7-42c8-bd5a-699407808847@termine-e
DTSTART:20260607T103000
DTEND:20260607T000000
CLASS:PUBLIC
DESCRIPTION:mit Pastor Andreas Ströble
LOCATION:Kapelle Ihme-Roloven\, Hannoversche Straße 45\, 30952\, Ronnenber
 g (OT Ihme-Roloven)
SUMMARY:Gottesdienst in Ihme-Roloven
END:VEVENT
END:VCALENDAR
