BEGIN:VCALENDAR
VERSION:2.0
PRODID:icalendar-ruby
CALSCALE:GREGORIAN
BEGIN:VEVENT
DTSTAMP:20260413T065617Z
UID:event-occurrence-978c56ea-f9f7-43bb-b3e8-f832407958d7-event-bf3b53a0-86
 34-489b-9980-0d4e7d5ad177@termine-e
DTSTART:20260823T170000
DTEND:20260823T000000
CLASS:PUBLIC
DESCRIPTION:Diakonin NehfsMusik: Brödling
LOCATION:St. Johannes-Kirche\, Schulstraße 33\, 31812\, Bad Pyrmont
SUMMARY:Gottesdienst
END:VEVENT
END:VCALENDAR
