BEGIN:VCALENDAR
VERSION:2.0
PRODID:icalendar-ruby
CALSCALE:GREGORIAN
BEGIN:VEVENT
DTSTAMP:20260407T075838Z
UID:event-occurrence-1098010c-daea-435d-bd4c-a644e9e31018-event-be6f8140-f1
 a8-46f7-92b7-1690260bac1b@termine-e
DTSTART:20260423T190000
DTEND:20260423T000000
CLASS:PUBLIC
DESCRIPTION:Gemeinsamer Austausch über Erfahrungen des Glaubens und des Le
 bens.
LOCATION:Gemeindehaus Kuhstedt\, Portenstraße\, 27442\, Gnarrenburg
SUMMARY:Gesprächsabend Glaube & Alltag
END:VEVENT
END:VCALENDAR
