BEGIN:VCALENDAR
VERSION:2.0
PRODID:icalendar-ruby
CALSCALE:GREGORIAN
BEGIN:VEVENT
DTSTAMP:20260314T144500Z
UID:event-occurrence-ef973007-ac87-415c-b79a-eefdea765703-event-bd2bac16-ed
 24-4777-9d31-c670278c6e1f@termine-e
DTSTART:20261031T100000
DTEND:20261031T150000
CLASS:PUBLIC
DESCRIPTION:In dieser besonderen Einheit beschäftigen sich die Konfis mit 
 den Themen Sterben und Tod. Ein Bestatter gibt Einblicke in seine Arbeit u
 nd erklärt\, was nach dem Tod eines Menschen geschieht und wie eine Beerd
 igung vorbereitet wird. Dabei haben die Jugendlichen die Möglichkeit\, Fr
 agen zu stellen und über ihre eigenen Gedanken und Vorstellungen zu sprec
 hen.Hinweis:Die angegebenen Uhrzeiten dienen zur Orientierung und können 
 sich im Einzelfall noch ändern.Der genaue Treffpunkt sowie weitere orga..
 .
LOCATION:Gemeindehaus der ev.-luth. Kirche St. Marien\, Kirchstraße 4\, 29
 339\, Wathlingen
SUMMARY:KUEXTRA: Sterben und Tod mit einem Bestatter
END:VEVENT
END:VCALENDAR
