BEGIN:VCALENDAR
VERSION:2.0
PRODID:icalendar-ruby
CALSCALE:GREGORIAN
BEGIN:VEVENT
DTSTAMP:20260401T091609Z
UID:event-occurrence-91257573-0744-4000-804b-73ba43c85602-event-bcd42d5d-d1
 86-4c97-af81-b066baed7b8f@termine-e
DTSTART:20260509T140000
DTEND:20260509T160000
CLASS:PUBLIC
LOCATION:
SUMMARY:Teilnahme an Jugendsynode der Evangelischen Jugend Wesermünde in B
 everstedt
END:VEVENT
END:VCALENDAR
