BEGIN:VCALENDAR
VERSION:2.0
PRODID:icalendar-ruby
CALSCALE:GREGORIAN
BEGIN:VEVENT
DTSTAMP:20251207T114810Z
UID:event-occurrence-f19de20e-fadd-466a-9a11-b2d708d65da6-event-bc9785c4-ae
 9f-464a-848f-40559e7fbe4d@termine-e
DTSTART:20251226T103000
DTEND:20251226T000000
CLASS:PUBLIC
DESCRIPTION:mit Pastor Feisthauer\, J.S. Bach: Magnificat\; MarkusChor Hann
 over\; K. Gyllenhammar\, Sopran\; T. Hechler\, Altus\; S. Kruse\, Tenor\; 
 Y. Spanier\, Bass\; Concerto Ispirato\, Leitung: M. Dietterle\; Orgel: M. 
 Heßbrüggen
LOCATION:Markuskirche\, Hannover-List\, Oskar-Winter-Straße 7\, 30161\, Ha
 nnover
SUMMARY:Festgottesdienst
END:VEVENT
END:VCALENDAR
