BEGIN:VCALENDAR
VERSION:2.0
PRODID:icalendar-ruby
CALSCALE:GREGORIAN
BEGIN:VEVENT
DTSTAMP:20260314T143842Z
UID:event-occurrence-90637e80-0c85-41c7-ad05-78499905058d-event-bc8067f4-b1
 73-4cbe-83fc-65a1c375ea88@termine-e
DTSTART:20261224T160000
DTEND:20261224T164500
CLASS:PUBLIC
DESCRIPTION:Die Konfis gestalten gemeinsam ein Krippenspiel und bringen die
  Weihnachtsgeschichte auf besondere Weise zur Darstellung. Dabei übernehm
 en sie verschiedene Rollen\, lesen Texte oder wirken auf andere Weise mit.
  So wird die biblische Geschichte von der Geburt Jesu lebendig und für di
 e Gemeinde erlebbar.
LOCATION:Hof Kesselhut\, Am Thie 4\, 29339\, Wathlingen
SUMMARY:KUEXTRA: Krippenspiel
END:VEVENT
END:VCALENDAR
