BEGIN:VCALENDAR
VERSION:2.0
PRODID:icalendar-ruby
CALSCALE:GREGORIAN
BEGIN:VEVENT
DTSTAMP:20260327T103029Z
UID:event-occurrence-944acb8b-652c-4b56-8ebb-bf0bcdfd2fcf-event-bc6e7f04-e6
 23-4188-bb93-c9ea4d3e7458@termine-e
DTSTART:20260426T170000
DTEND:20260426T000000
CLASS:PUBLIC
DESCRIPTION:Vernissage mit Andacht und Einführung in dieAusstellung durch 
 Klaus G. Kohn und Prof. WilfriedKöpke
LOCATION:St. Lamberti Hildesheim
SUMMARY:Vernissage PASSAGE Die Dinge | Das Leben - Fotoausstellung von Klau
 s G. Kohn
END:VEVENT
END:VCALENDAR
