BEGIN:VCALENDAR
VERSION:2.0
PRODID:icalendar-ruby
CALSCALE:GREGORIAN
BEGIN:VEVENT
DTSTAMP:20260413T065005Z
UID:event-occurrence-2c4daf89-1dc5-4760-aeea-3d8365dce4fc-event-bc46b116-05
 5e-4624-845e-b39d18cfda95@termine-e
DTSTART:20260813T081500
DTEND:20260813T000000
CLASS:PUBLIC
DESCRIPTION:Pn. WeidnerMusik: v. d. Heide\, Gitarre
LOCATION:St. Johannes-Kirche\, Schulstraße 33\, 31812\, Bad Pyrmont
SUMMARY:Gottesdienst zum Schuljahresbeginn
END:VEVENT
END:VCALENDAR
