BEGIN:VCALENDAR
VERSION:2.0
PRODID:icalendar-ruby
CALSCALE:GREGORIAN
BEGIN:VEVENT
DTSTAMP:20260317T171241Z
UID:event-occurrence-5f1a43f1-fdbe-4743-834c-ce9b776621d6-event-bc3d3d80-80
 ae-42d3-a0e8-848cda3dab09@termine-e
DTSTART:20260920T150000
DTEND:20260920T000000
CLASS:PUBLIC
LOCATION:Gemeindehaus Wilstedt\, Am Brink 4\, 27412\, Wilstedt
SUMMARY:Trauercafe
END:VEVENT
END:VCALENDAR
