BEGIN:VCALENDAR
VERSION:2.0
PRODID:icalendar-ruby
CALSCALE:GREGORIAN
BEGIN:VEVENT
DTSTAMP:20260223T143140Z
UID:event-occurrence-e90e27e3-37e1-4eae-8a8c-f884aa3f3427-event-ba4531f9-2a
 a1-40d7-adc1-88f5a5133db3@termine-e
DTSTART:20260315T110000
DTEND:20260315T120000
CLASS:PUBLIC
DESCRIPTION:Moderner Gottesdienst mit viel Musik und Aktionen
LOCATION:Drebber - Marienkirche\, Marienstraße 3\, 49457\, Drebber
SUMMARY:Einführungsgottesdienst der neuen Konfirmanden\, Marienkirche\, Dr
 ebber\, P.Hoffmann
END:VEVENT
END:VCALENDAR
