BEGIN:VCALENDAR
VERSION:2.0
PRODID:icalendar-ruby
CALSCALE:GREGORIAN
BEGIN:VEVENT
DTSTAMP:20260420T115136Z
UID:event-occurrence-d6a7f7d8-1961-4bac-80bc-fc2977efb401-event-b9f704df-fd
 6a-4f20-bda9-c1807ca4cd15@termine-e
DTSTART:20260621T110000
DTEND:20260621T000000
CLASS:PUBLIC
LOCATION:Emmaus Kirche\, St.Willehadusweg\, 27711\, Pennigbüttel
SUMMARY:Gottesdienst
END:VEVENT
END:VCALENDAR
