BEGIN:VCALENDAR
VERSION:2.0
PRODID:icalendar-ruby
CALSCALE:GREGORIAN
BEGIN:VEVENT
DTSTAMP:20260420T084800Z
UID:event-occurrence-8dd25eb9-6c14-4fcd-9b7e-bd0d61736e6e-event-b9011e9b-99
 bc-4fa3-b24e-652947b0c705@termine-e
DTSTART:20260425T140000
DTEND:20260425T000000
CLASS:PUBLIC
DESCRIPTION:Mit Pastorin Lara Schilde
LOCATION:Heilige-Drei-Könige Kirche Bramel\, Kirchenstraße 11\, 27619\, S
 chiffdorf-Bramel
SUMMARY:Konfirmation in Bramel
END:VEVENT
END:VCALENDAR
