BEGIN:VCALENDAR
VERSION:2.0
PRODID:icalendar-ruby
CALSCALE:GREGORIAN
BEGIN:VEVENT
DTSTAMP:20260226T074238Z
UID:event-occurrence-2e7e3b66-48ea-4078-a239-b1acf6b5b10f-event-b805cc36-74
 e0-4b80-8bb1-5e760586b415@termine-e
DTSTART:20260221T100000
DTEND:20260221T113000
CLASS:PUBLIC
DESCRIPTION:Spielerisch bringen wir den Kleinen die Liturgie näher\, verbi
 nden sie mit singen\, musizieren und auch ein bisschen basteln und gesunde
 n Snacks.
LOCATION:Thomaskirche Hohenbostel\, An der Kirche 3\, 30890\, Hohenbostel
SUMMARY:Kindergottesdienst
END:VEVENT
BEGIN:VEVENT
DTSTAMP:20260226T074238Z
UID:event-occurrence-b90aaf2d-ef71-43ff-ae4a-2155da3a9d0a-event-b805cc36-74
 e0-4b80-8bb1-5e760586b415@termine-e
DTSTART:20260307T100000
DTEND:20260307T113000
CLASS:PUBLIC
DESCRIPTION:Spielerisch bringen wir den Kleinen die Liturgie näher\, verbi
 nden sie mit singen\, musizieren und auch ein bisschen basteln und gesunde
 n Snacks.
LOCATION:Thomaskirche Hohenbostel\, An der Kirche 3\, 30890\, Hohenbostel
SUMMARY:Kindergottesdienst
END:VEVENT
BEGIN:VEVENT
DTSTAMP:20260226T074238Z
UID:event-occurrence-f0c3f5ea-df8b-4651-8b9e-2b78b1aea60f-event-b805cc36-74
 e0-4b80-8bb1-5e760586b415@termine-e
DTSTART:20260321T100000
DTEND:20260321T113000
CLASS:PUBLIC
DESCRIPTION:Spielerisch bringen wir den Kleinen die Liturgie näher\, verbi
 nden sie mit singen\, musizieren und auch ein bisschen basteln und gesunde
 n Snacks.
LOCATION:Thomaskirche Hohenbostel\, An der Kirche 3\, 30890\, Hohenbostel
SUMMARY:Kindergottesdienst
END:VEVENT
BEGIN:VEVENT
DTSTAMP:20260226T074238Z
UID:event-occurrence-632a2104-0fb1-412a-9c17-8434fc669343-event-b805cc36-74
 e0-4b80-8bb1-5e760586b415@termine-e
DTSTART:20260404T100000
DTEND:20260404T113000
CLASS:PUBLIC
DESCRIPTION:Spielerisch bringen wir den Kleinen die Liturgie näher\, verbi
 nden sie mit singen\, musizieren und auch ein bisschen basteln und gesunde
 n Snacks.
LOCATION:Thomaskirche Hohenbostel\, An der Kirche 3\, 30890\, Hohenbostel
SUMMARY:Kindergottesdienst
END:VEVENT
BEGIN:VEVENT
DTSTAMP:20260226T074238Z
UID:event-occurrence-d3beff84-dc68-4bbc-ada1-2e2996e825e4-event-b805cc36-74
 e0-4b80-8bb1-5e760586b415@termine-e
DTSTART:20260418T100000
DTEND:20260418T113000
CLASS:PUBLIC
DESCRIPTION:Spielerisch bringen wir den Kleinen die Liturgie näher\, verbi
 nden sie mit singen\, musizieren und auch ein bisschen basteln und gesunde
 n Snacks.
LOCATION:Thomaskirche Hohenbostel\, An der Kirche 3\, 30890\, Hohenbostel
SUMMARY:Kindergottesdienst
END:VEVENT
BEGIN:VEVENT
DTSTAMP:20260226T074238Z
UID:event-occurrence-2775756b-75d4-4879-a7e4-d890ac415839-event-b805cc36-74
 e0-4b80-8bb1-5e760586b415@termine-e
DTSTART:20260502T100000
DTEND:20260502T113000
CLASS:PUBLIC
DESCRIPTION:Spielerisch bringen wir den Kleinen die Liturgie näher\, verbi
 nden sie mit singen\, musizieren und auch ein bisschen basteln und gesunde
 n Snacks.
LOCATION:Thomaskirche Hohenbostel\, An der Kirche 3\, 30890\, Hohenbostel
SUMMARY:Kindergottesdienst
END:VEVENT
BEGIN:VEVENT
DTSTAMP:20260226T074238Z
UID:event-occurrence-0984cae0-595a-4d0e-bca7-4559a38a0f7d-event-b805cc36-74
 e0-4b80-8bb1-5e760586b415@termine-e
DTSTART:20260516T100000
DTEND:20260516T113000
CLASS:PUBLIC
DESCRIPTION:Spielerisch bringen wir den Kleinen die Liturgie näher\, verbi
 nden sie mit singen\, musizieren und auch ein bisschen basteln und gesunde
 n Snacks.
LOCATION:Thomaskirche Hohenbostel\, An der Kirche 3\, 30890\, Hohenbostel
SUMMARY:Kindergottesdienst
END:VEVENT
BEGIN:VEVENT
DTSTAMP:20260226T074238Z
UID:event-occurrence-3c62494a-f6d5-4258-ac46-475cad493a57-event-b805cc36-74
 e0-4b80-8bb1-5e760586b415@termine-e
DTSTART:20260530T100000
DTEND:20260530T113000
CLASS:PUBLIC
DESCRIPTION:Spielerisch bringen wir den Kleinen die Liturgie näher\, verbi
 nden sie mit singen\, musizieren und auch ein bisschen basteln und gesunde
 n Snacks.
LOCATION:Thomaskirche Hohenbostel\, An der Kirche 3\, 30890\, Hohenbostel
SUMMARY:Kindergottesdienst
END:VEVENT
BEGIN:VEVENT
DTSTAMP:20260226T074238Z
UID:event-occurrence-e3e3ead7-5d5e-4b96-be7a-c41158476fb8-event-b805cc36-74
 e0-4b80-8bb1-5e760586b415@termine-e
DTSTART:20260613T100000
DTEND:20260613T113000
CLASS:PUBLIC
DESCRIPTION:Spielerisch bringen wir den Kleinen die Liturgie näher\, verbi
 nden sie mit singen\, musizieren und auch ein bisschen basteln und gesunde
 n Snacks.
LOCATION:Thomaskirche Hohenbostel\, An der Kirche 3\, 30890\, Hohenbostel
SUMMARY:Kindergottesdienst
END:VEVENT
BEGIN:VEVENT
DTSTAMP:20260226T074238Z
UID:event-occurrence-058c7063-5a54-4da7-b62f-b5a009c83f4d-event-b805cc36-74
 e0-4b80-8bb1-5e760586b415@termine-e
DTSTART:20260627T100000
DTEND:20260627T113000
CLASS:PUBLIC
DESCRIPTION:Spielerisch bringen wir den Kleinen die Liturgie näher\, verbi
 nden sie mit singen\, musizieren und auch ein bisschen basteln und gesunde
 n Snacks.
LOCATION:Thomaskirche Hohenbostel\, An der Kirche 3\, 30890\, Hohenbostel
SUMMARY:Kindergottesdienst
END:VEVENT
BEGIN:VEVENT
DTSTAMP:20260226T074238Z
UID:event-occurrence-a1fa0f27-67dd-4ef1-9732-3caa53282a96-event-b805cc36-74
 e0-4b80-8bb1-5e760586b415@termine-e
DTSTART:20260711T100000
DTEND:20260711T113000
CLASS:PUBLIC
DESCRIPTION:Spielerisch bringen wir den Kleinen die Liturgie näher\, verbi
 nden sie mit singen\, musizieren und auch ein bisschen basteln und gesunde
 n Snacks.
LOCATION:Thomaskirche Hohenbostel\, An der Kirche 3\, 30890\, Hohenbostel
SUMMARY:Kindergottesdienst
END:VEVENT
BEGIN:VEVENT
DTSTAMP:20260226T074238Z
UID:event-occurrence-947b9506-de44-46a7-99bb-b2dc5aa91304-event-b805cc36-74
 e0-4b80-8bb1-5e760586b415@termine-e
DTSTART:20260725T100000
DTEND:20260725T113000
CLASS:PUBLIC
DESCRIPTION:Spielerisch bringen wir den Kleinen die Liturgie näher\, verbi
 nden sie mit singen\, musizieren und auch ein bisschen basteln und gesunde
 n Snacks.
LOCATION:Thomaskirche Hohenbostel\, An der Kirche 3\, 30890\, Hohenbostel
SUMMARY:Kindergottesdienst
END:VEVENT
BEGIN:VEVENT
DTSTAMP:20260226T074238Z
UID:event-occurrence-add30d03-d4a4-4d66-9c55-c34b2bed46d9-event-b805cc36-74
 e0-4b80-8bb1-5e760586b415@termine-e
DTSTART:20260808T100000
DTEND:20260808T113000
CLASS:PUBLIC
DESCRIPTION:Spielerisch bringen wir den Kleinen die Liturgie näher\, verbi
 nden sie mit singen\, musizieren und auch ein bisschen basteln und gesunde
 n Snacks.
LOCATION:Thomaskirche Hohenbostel\, An der Kirche 3\, 30890\, Hohenbostel
SUMMARY:Kindergottesdienst
END:VEVENT
BEGIN:VEVENT
DTSTAMP:20260226T074238Z
UID:event-occurrence-5f97b1dd-b608-4949-99c1-c71db0fc1db0-event-b805cc36-74
 e0-4b80-8bb1-5e760586b415@termine-e
DTSTART:20260822T100000
DTEND:20260822T113000
CLASS:PUBLIC
DESCRIPTION:Spielerisch bringen wir den Kleinen die Liturgie näher\, verbi
 nden sie mit singen\, musizieren und auch ein bisschen basteln und gesunde
 n Snacks.
LOCATION:Thomaskirche Hohenbostel\, An der Kirche 3\, 30890\, Hohenbostel
SUMMARY:Kindergottesdienst
END:VEVENT
BEGIN:VEVENT
DTSTAMP:20260226T074238Z
UID:event-occurrence-95485b16-da06-4d26-a205-21e83d4ebf20-event-b805cc36-74
 e0-4b80-8bb1-5e760586b415@termine-e
DTSTART:20260905T100000
DTEND:20260905T113000
CLASS:PUBLIC
DESCRIPTION:Spielerisch bringen wir den Kleinen die Liturgie näher\, verbi
 nden sie mit singen\, musizieren und auch ein bisschen basteln und gesunde
 n Snacks.
LOCATION:Thomaskirche Hohenbostel\, An der Kirche 3\, 30890\, Hohenbostel
SUMMARY:Kindergottesdienst
END:VEVENT
BEGIN:VEVENT
DTSTAMP:20260226T074238Z
UID:event-occurrence-f7015168-29f4-4113-99ac-b16de1c954d3-event-b805cc36-74
 e0-4b80-8bb1-5e760586b415@termine-e
DTSTART:20260919T100000
DTEND:20260919T113000
CLASS:PUBLIC
DESCRIPTION:Spielerisch bringen wir den Kleinen die Liturgie näher\, verbi
 nden sie mit singen\, musizieren und auch ein bisschen basteln und gesunde
 n Snacks.
LOCATION:Thomaskirche Hohenbostel\, An der Kirche 3\, 30890\, Hohenbostel
SUMMARY:Kindergottesdienst
END:VEVENT
BEGIN:VEVENT
DTSTAMP:20260226T074238Z
UID:event-occurrence-c5ae7810-c54d-4e09-95e0-0dc2ec0c5bb9-event-b805cc36-74
 e0-4b80-8bb1-5e760586b415@termine-e
DTSTART:20261003T100000
DTEND:20261003T113000
CLASS:PUBLIC
DESCRIPTION:Spielerisch bringen wir den Kleinen die Liturgie näher\, verbi
 nden sie mit singen\, musizieren und auch ein bisschen basteln und gesunde
 n Snacks.
LOCATION:Thomaskirche Hohenbostel\, An der Kirche 3\, 30890\, Hohenbostel
SUMMARY:Kindergottesdienst
END:VEVENT
BEGIN:VEVENT
DTSTAMP:20260226T074238Z
UID:event-occurrence-42ab666d-869a-4702-b127-283deedffead-event-b805cc36-74
 e0-4b80-8bb1-5e760586b415@termine-e
DTSTART:20261017T100000
DTEND:20261017T113000
CLASS:PUBLIC
DESCRIPTION:Spielerisch bringen wir den Kleinen die Liturgie näher\, verbi
 nden sie mit singen\, musizieren und auch ein bisschen basteln und gesunde
 n Snacks.
LOCATION:Thomaskirche Hohenbostel\, An der Kirche 3\, 30890\, Hohenbostel
SUMMARY:Kindergottesdienst
END:VEVENT
BEGIN:VEVENT
DTSTAMP:20260226T074238Z
UID:event-occurrence-349c7bc9-245c-4015-86db-0806d300b101-event-b805cc36-74
 e0-4b80-8bb1-5e760586b415@termine-e
DTSTART:20261031T100000
DTEND:20261031T113000
CLASS:PUBLIC
DESCRIPTION:Spielerisch bringen wir den Kleinen die Liturgie näher\, verbi
 nden sie mit singen\, musizieren und auch ein bisschen basteln und gesunde
 n Snacks.
LOCATION:Thomaskirche Hohenbostel\, An der Kirche 3\, 30890\, Hohenbostel
SUMMARY:Kindergottesdienst
END:VEVENT
BEGIN:VEVENT
DTSTAMP:20260226T074238Z
UID:event-occurrence-2b4a1f65-9bde-4fa5-9c3d-5a24f99e2ffb-event-b805cc36-74
 e0-4b80-8bb1-5e760586b415@termine-e
DTSTART:20261114T100000
DTEND:20261114T113000
CLASS:PUBLIC
DESCRIPTION:Spielerisch bringen wir den Kleinen die Liturgie näher\, verbi
 nden sie mit singen\, musizieren und auch ein bisschen basteln und gesunde
 n Snacks.
LOCATION:Thomaskirche Hohenbostel\, An der Kirche 3\, 30890\, Hohenbostel
SUMMARY:Kindergottesdienst
END:VEVENT
END:VCALENDAR
