BEGIN:VCALENDAR
VERSION:2.0
PRODID:icalendar-ruby
CALSCALE:GREGORIAN
BEGIN:VEVENT
DTSTAMP:20260415T182943Z
UID:event-occurrence-e0043eb9-cec6-43c3-b16f-56f3aef5c79c-event-b6d2fc7e-5e
 da-4f2e-9944-4078f38c4149@termine-e
DTSTART:20260425T180000
DTEND:20260425T000000
CLASS:PUBLIC
DESCRIPTION:Gemeinsamer Gottesdienst mit Tischabendmahl im Kirchenzentrum L
 ohne
LOCATION:Kirchenzentrum Lohne\, Friedensweg 3\, 49835\, Wietmarschen-Lohne
SUMMARY:Gemeinsamer Gottesdienst mit Tischabendmahl im Kirchenzentrum Lohne
END:VEVENT
END:VCALENDAR
