BEGIN:VCALENDAR
VERSION:2.0
PRODID:icalendar-ruby
CALSCALE:GREGORIAN
BEGIN:VEVENT
DTSTAMP:20260423T100628Z
UID:event-occurrence-945767d6-0bd6-42d8-b6bb-53bbca923250-event-b6a1e160-0b
 d2-45b2-a027-75ebdc8da0d7@termine-e
DTSTART:20260529T180000
DTEND:20260529T000000
CLASS:PUBLIC
DESCRIPTION:mit Diakon Jörs
LOCATION:Matthiaskirche Buchholz
SUMMARY:Kinder-Kirchen-Nacht
END:VEVENT
END:VCALENDAR
