BEGIN:VCALENDAR
VERSION:2.0
PRODID:icalendar-ruby
CALSCALE:GREGORIAN
BEGIN:VEVENT
DTSTAMP:20260420T114859Z
UID:event-occurrence-adb5e32a-1aa4-4dea-b7f0-51701ae573f1-event-b66704c5-6b
 b3-4b67-9701-a430ad3d9cc4@termine-e
DTSTART:20260524T110000
DTEND:20260524T000000
CLASS:PUBLIC
LOCATION:Klosterkirche St.Marien\, Findorfstraße 18\, 27711\, Osterholz-Sc
 harmbeck
SUMMARY:Gemeinsamer Gottesdienst
END:VEVENT
END:VCALENDAR
