BEGIN:VCALENDAR
VERSION:2.0
PRODID:icalendar-ruby
CALSCALE:GREGORIAN
BEGIN:VEVENT
DTSTAMP:20260420T181724Z
UID:event-occurrence-e57bc5b5-c3e0-4449-a3b6-ea058aeed335-event-b50e05b1-8f
 11-45b9-87bd-9ab5705e9ef1@termine-e
DTSTART:20260510T110000
DTEND:20260510T000000
CLASS:PUBLIC
DESCRIPTION:We usually worship together on the first Sunday at 11:00 a.m. T
 he service is celebrated in a mixture of English and German using a combin
 ation of traditional Anglican and Lutheran rites throughout which we liste
 n to Holy Scripture and celebrate Holy Communion together. Sometimes we ce
 lebrate according to the Anglican rite and sometimes according to the Luth
 eran rite\, but always welcoming and embracing one another’s traditions.
  Wir feiern unseren Gottesdienst in der Regel am ersten Sonntag im ...
LOCATION:Ev.-luth. Gnadenkirche zum Heiligen Kreuz\, Lehrter Platz 5\, 3051
 9\, Hannover
SUMMARY:Anglican Services\, Rev. R. Downes\, Kantor: M. Zingerling – 5th 
 Sunday of Easter\, Rogate-Sunday
END:VEVENT
END:VCALENDAR
