BEGIN:VCALENDAR
VERSION:2.0
PRODID:icalendar-ruby
CALSCALE:GREGORIAN
BEGIN:VEVENT
DTSTAMP:20260329T132428Z
UID:event-occurrence-5bf9517e-f2c0-4a0c-833a-4d4964302f54-event-b418e6fc-8b
 54-4e96-a7d9-956b2872526d@termine-e
DTSTART:20260503T103000
DTEND:20260503T000000
CLASS:PUBLIC
DESCRIPTION:mit Pastor Andreas Ströble
LOCATION:Kapelle Ihme-Roloven\, Hannoversche Straße 45\, 30952\, Ronnenber
 g (OT Ihme-Roloven)
SUMMARY:Gottesdienst in Ihme-Roloven
END:VEVENT
END:VCALENDAR
