BEGIN:VCALENDAR
VERSION:2.0
PRODID:icalendar-ruby
CALSCALE:GREGORIAN
BEGIN:VEVENT
DTSTAMP:20260420T103853Z
UID:event-occurrence-cae52f15-4c32-42c4-a5d4-2eb8add6a327-event-b4084d73-d9
 cd-454d-a654-c2fb33683d4c@termine-e
DTSTART:20260426T180000
DTEND:20260426T000000
CLASS:PUBLIC
LOCATION:St. Katharinen\, An der Katharinenkirche 8\, 49074\, Osnabrück
SUMMARY:Orgelkonzert J.S. Bach - 3. Teil der Clavierübung\, Kantor Arne Ha
 tje
END:VEVENT
END:VCALENDAR
