BEGIN:VCALENDAR
VERSION:2.0
PRODID:icalendar-ruby
CALSCALE:GREGORIAN
BEGIN:VEVENT
DTSTAMP:20260414T152413Z
UID:event-occurrence-a4c17aa7-a7ff-45f8-b3bb-ead96ccede1c-event-b2f81448-51
 1f-4811-aa4a-032f0f92bc60@termine-e
DTSTART:20260417T150000
DTEND:20260417T000000
CLASS:PUBLIC
DESCRIPTION:Dieses Mal wieder am Freitag: Die Familienkirche ist ein spezie
 lles Angebot für Familien mit kleinen Kindern bis 7 Jahre. Es ist ein kur
 zer Gottesdienst mit kindgerechten Liedern und Ritualen und wird regelmä
 ßig in Peter und Paul angeboten. Ohne Anmeldung - einfach dazukommen - ge
 rn auch mit den Großeltern\, Paten .... usw. Herzlich willkommen!
LOCATION:Kirchengemeinde Peter und Paul\, Friedenstr. 3\, 29640\, Schneverd
 ingen
SUMMARY:Familienkirche für Familien mit kleinen Kindern\, Pastor Harm Cord
 es
END:VEVENT
END:VCALENDAR
