BEGIN:VCALENDAR
VERSION:2.0
PRODID:icalendar-ruby
CALSCALE:GREGORIAN
BEGIN:VEVENT
DTSTAMP:20260314T143231Z
UID:event-occurrence-d99b0a2e-7730-464a-ac15-44b59c2e74f2-event-b24aa7cb-78
 d1-43b8-acb5-74d2c1e54958@termine-e
DTSTART:20260514T100000
DTEND:20260514T110000
CLASS:PUBLIC
DESCRIPTION:Mit einem besonderen Gottesdienst werden die neuen Konfirmandin
 nen und Konfirmanden in der Gemeinde begrüßt. In diesem Gottesdienst ste
 llen sich die Jugendlichen der Gemeinde vor und werden für ihre gemeinsam
 e Konfi-Zeit gesegnet. Gleichzeitig wird deutlich: Die Konfi-Zeit ist nich
 t nur Unterricht\, sondern ein Weg\, den die Jugendlichen gemeinsam mit de
 r Gemeinde gehen.
LOCATION:ev.-luth. Kirche St. Marien\, Kirchstraße 6\, 29339\, Wathlingen
SUMMARY:KUEXTRA: Begrüßungsgottesdienst
END:VEVENT
END:VCALENDAR
