BEGIN:VCALENDAR
VERSION:2.0
PRODID:icalendar-ruby
CALSCALE:GREGORIAN
BEGIN:VEVENT
DTSTAMP:20260423T161146Z
UID:event-occurrence-910d2903-5b35-4a85-97e6-16ecb70619dd-event-b2406c1b-8e
 a0-4c7e-9070-2bfeefed6b8c@termine-e
DTSTART:20260517T110000
DTEND:20260517T000000
CLASS:PUBLIC
DESCRIPTION:Am Sonntag Exaudi feiern wir Gottesdienst mit Prädikant Michae
 l Jorek. Anschließend Kirchenkaffee. Der Weltladen ist geöffnet.
LOCATION:St. Georgs-Kirche\, Wichmannsburg
SUMMARY:Gottesdienst in Wichmannsburg
END:VEVENT
END:VCALENDAR
