BEGIN:VCALENDAR
VERSION:2.0
PRODID:icalendar-ruby
CALSCALE:GREGORIAN
BEGIN:VEVENT
DTSTAMP:20260309T092737Z
UID:event-occurrence-fa83f8fc-e5fd-4f6f-934f-048fda7e9c4b-event-b11f96ea-b7
 41-4e41-9a75-19019357137f@termine-e
DTSTART:20260403T100000
DTEND:20260403T000000
CLASS:PUBLIC
LOCATION:St. Bartholomäus Kirche Dornum\, 26553\, Dornum
SUMMARY:Gottesdienst zum Karfreitag mit Abendmahl
END:VEVENT
END:VCALENDAR
