BEGIN:VCALENDAR
VERSION:2.0
PRODID:icalendar-ruby
CALSCALE:GREGORIAN
BEGIN:VEVENT
DTSTAMP:20260318T204713Z
UID:event-occurrence-70f04726-fd00-4805-b694-895aec46cc16-event-b0ef835d-1c
 eb-4f79-94c4-2eaeb980bf3a@termine-e
DTSTART:20260514T083000
DTEND:20260514T000000
CLASS:PUBLIC
DESCRIPTION:Pastor Ralf Halbrügge / Posaunenchor Oldendorf unter der Leitu
 ng von Birgit Wierspecker
LOCATION:Diedrichsburg\, Holzhausener Straße 17\, 49328\, Melle
SUMMARY:Himmelfahrtsgottesdienst an der Diedrichsburg
END:VEVENT
END:VCALENDAR
