BEGIN:VCALENDAR
VERSION:2.0
PRODID:icalendar-ruby
CALSCALE:GREGORIAN
BEGIN:VEVENT
DTSTAMP:20260319T134643Z
UID:event-occurrence-4997ec5c-1b2f-440e-b7a1-0cbc8e35bb67-event-b033296e-ba
 61-4477-b7b5-0635129d85b6@termine-e
DTSTART:20260417T190000
DTEND:20260417T000000
CLASS:PUBLIC
LOCATION:Gemeindehaus Luther-Kirche\, Birkenstraße 1\, 29614\, Soltau
SUMMARY:Friedensgebet
END:VEVENT
END:VCALENDAR
