BEGIN:VCALENDAR
VERSION:2.0
PRODID:icalendar-ruby
CALSCALE:GREGORIAN
BEGIN:VEVENT
DTSTAMP:20260422T063823Z
UID:event-occurrence-7d58d79c-86df-4789-bfd8-e17b37404633-event-afc54f89-32
 fc-4292-91d1-0a17038b1353@termine-e
DTSTART:20260621T170000
DTEND:20260621T000000
CLASS:PUBLIC
DESCRIPTION:Sommermusik mit Chören und Solisten aus unserer Gemeinde
LOCATION:St. Marien Kirche\, Kirchenstr. 1\, 27612\, Loxstedt
SUMMARY:Sommermusik mit Chören und Solisten in Loxstedt
END:VEVENT
END:VCALENDAR
