BEGIN:VCALENDAR
VERSION:2.0
PRODID:icalendar-ruby
CALSCALE:GREGORIAN
BEGIN:VEVENT
DTSTAMP:20260401T094611Z
UID:event-occurrence-56180cc7-8d5c-4691-af0c-60a8308cb01e-event-afa8c624-c9
 7f-4a23-bfb6-4d58bfc686c5@termine-e
DTSTART:20260712T120000
DTEND:20260712T000000
CLASS:PUBLIC
DESCRIPTION:30 Minuten Musik an der großen Goll-OrgelBach | Hakim | Vierne
LOCATION:Marktkirche Hannover\, Hanns-Lilje-Platz 2\, 30159\, Hannover
SUMMARY:Orgelmatinee: Christian Michel (Hannover)
END:VEVENT
END:VCALENDAR
