BEGIN:VCALENDAR
VERSION:2.0
PRODID:icalendar-ruby
CALSCALE:GREGORIAN
BEGIN:VEVENT
DTSTAMP:20260316T112059Z
UID:event-occurrence-67a9911e-a32b-47ce-9067-93679daa1af5-event-af6d83ec-87
 00-4ff6-bac6-5c8522967bcf@termine-e
DTSTART:20260616T153000
DTEND:20260616T170000
CLASS:PUBLIC
DESCRIPTION:Friedhof Alfelder Straße „Gesprächezwischen Himmel und Erde
 “
LOCATION:
SUMMARY:LUCAmobil
END:VEVENT
END:VCALENDAR
