BEGIN:VCALENDAR
VERSION:2.0
PRODID:icalendar-ruby
CALSCALE:GREGORIAN
BEGIN:VEVENT
DTSTAMP:20260407T063857Z
UID:event-occurrence-c0e3d4be-d8f3-4b02-a5f8-45c1d3ff9961-event-ae0fc002-01
 03-4b69-a518-3825df0a9fb3@termine-e
DTSTART:20260525T110000
DTEND:20260525T000000
CLASS:PUBLIC
LOCATION:Ev.-luth. Petruskirche\, Albert-Schweitzer-Str. 33\, 49086\, Osnab
 rück
SUMMARY:Gottesdienst zum Pfingstmontag in der Pauluskirche
END:VEVENT
END:VCALENDAR
