BEGIN:VCALENDAR
VERSION:2.0
PRODID:icalendar-ruby
CALSCALE:GREGORIAN
BEGIN:VEVENT
DTSTAMP:20260401T095220Z
UID:event-occurrence-f260122b-c7a3-4c48-b135-770573f7e89a-event-ad71867c-84
 7e-46ef-9214-5692caa9da0e@termine-e
DTSTART:20260726T120000
DTEND:20260726T000000
CLASS:PUBLIC
DESCRIPTION:30 Minuten Musik an der großen Goll-OrgelMuffat | Mozart | Men
 delssohn
LOCATION:Marktkirche Hannover\, Hanns-Lilje-Platz 2\, 30159\, Hannover
SUMMARY:Orgelmatinee: Matthias Flierl (Hannover)
END:VEVENT
END:VCALENDAR
