BEGIN:VCALENDAR
VERSION:2.0
PRODID:icalendar-ruby
CALSCALE:GREGORIAN
BEGIN:VEVENT
DTSTAMP:20260407T095220Z
UID:event-occurrence-b3127e67-9ef8-4a49-9a54-93c7d7a237d7-event-ad565855-6c
 5b-4856-8851-4424a0db56a8@termine-e
DTSTART:20260531T100000
DTEND:20260531T000000
CLASS:PUBLIC
DESCRIPTION:TrinitatisGottesdienst mit AbendmahlMusikal. Gestaltung: Ursula
  Hörsch (Stedesdorf)Liturg. Leitung: Pastor Thiem
LOCATION:St. Nicolaikirche Wittmund\, Am Kirchplatz 2\, 26409\, Wittmund
SUMMARY:Gottesdienst mit Abendmahl
END:VEVENT
END:VCALENDAR
