BEGIN:VCALENDAR
VERSION:2.0
PRODID:icalendar-ruby
CALSCALE:GREGORIAN
BEGIN:VEVENT
DTSTAMP:20260328T101419Z
UID:event-occurrence-9800a854-52b4-466d-aaf0-c66f871e5939-event-ace349b1-99
 5f-44f9-aeb7-8898213147d4@termine-e
DTSTART:20260531T103000
DTEND:20260531T000000
CLASS:PUBLIC
LOCATION:Herrenhäuser Kirche\, Hegebläch 19\, 30419\, Hannover
SUMMARY:Gottesdienst
END:VEVENT
END:VCALENDAR
