BEGIN:VCALENDAR
VERSION:2.0
PRODID:icalendar-ruby
CALSCALE:GREGORIAN
BEGIN:VEVENT
DTSTAMP:20260418T110000Z
UID:event-occurrence-af764502-2d1b-4709-b76f-2f69d2320d3e-event-ac599ad1-e5
 1d-421a-88d0-da663bf0927b@termine-e
DTSTART:20260503T100000
DTEND:20260503T000000
CLASS:PUBLIC
LOCATION:St. Mauritius Kirche\, 49201\, Dissen aTW
SUMMARY:Gottesdienst\, Lektor Ebert
END:VEVENT
END:VCALENDAR
