BEGIN:VCALENDAR
VERSION:2.0
PRODID:icalendar-ruby
CALSCALE:GREGORIAN
BEGIN:VEVENT
DTSTAMP:20260422T183913Z
UID:event-occurrence-7240de33-3390-4826-8063-3439c0ca70ac-event-ac11e17d-fb
 89-4719-82f8-1eceba8410e9@termine-e
DTSTART:20260531T113000
DTEND:20260531T000000
CLASS:PUBLIC
LOCATION:Kloster Amelungsborn
SUMMARY:Vernissage: Se(h)ligkeiten vom Unterwegs.Sein Skulpturen - Grafiken
  Installation - Texte
END:VEVENT
END:VCALENDAR
