BEGIN:VCALENDAR
VERSION:2.0
PRODID:icalendar-ruby
CALSCALE:GREGORIAN
BEGIN:VEVENT
DTSTAMP:20260313T084045Z
UID:event-occurrence-4d3686dd-fb8f-45e2-a8be-4165073c75b2-event-abc25fb5-ed
 10-4783-beb8-0e1a1f171898@termine-e
DTSTART:20260320T193000
DTEND:20260320T200000
CLASS:PUBLIC
DESCRIPTION:Passionsandacht mit Pastor A. Lüder
LOCATION:Ev. - luth. Kirchengemeinde Großheide\,\, Schloßstraße 34-37\, 
 26532\, Großheide
SUMMARY:Passionsandacht
END:VEVENT
END:VCALENDAR
