BEGIN:VCALENDAR
VERSION:2.0
PRODID:icalendar-ruby
CALSCALE:GREGORIAN
BEGIN:VEVENT
DTSTAMP:20260310T071118Z
UID:event-occurrence-44b718b5-4e86-4647-9766-855bdd78e5e6-event-aab12849-31
 e3-4878-a298-6a76729dba23@termine-e
DTSTART:20260403T150000
DTEND:20260403T000000
CLASS:PUBLIC
LOCATION:St. Andreas Geversdorf\, An der Kirche\, 21784\, Geversdorf
SUMMARY:Sterbestunde Christi in Geversdorf
END:VEVENT
END:VCALENDAR
