BEGIN:VCALENDAR
VERSION:2.0
PRODID:icalendar-ruby
CALSCALE:GREGORIAN
BEGIN:VEVENT
DTSTAMP:20260327T123454Z
UID:event-occurrence-d51af2f0-98dc-435c-93ad-36c44e4796a0-event-a9470c11-c2
 c4-44db-aeac-dab42fccddd2@termine-e
DTSTART:20260525T100000
DTEND:20260525T000000
CLASS:PUBLIC
DESCRIPTION:Pastorin i.R. Hanna Kreisel-Liebermann | Matthias Flierl\, Orge
 l
LOCATION:Marktkirche Hannover\, Hanns-Lilje-Platz 2\, 30159\, Hannover
SUMMARY:Gottesdienst: Pfingstmontag
END:VEVENT
END:VCALENDAR
