BEGIN:VCALENDAR
VERSION:2.0
PRODID:icalendar-ruby
CALSCALE:GREGORIAN
BEGIN:VEVENT
DTSTAMP:20260323T125253Z
UID:event-occurrence-5fab3c02-4014-4032-9ef6-cbaaab6cdcfd-event-a8f73d5d-30
 7b-4fb3-a278-d72ab0ed5797@termine-e
DTSTART:20260426T100000
DTEND:20260426T110000
CLASS:PUBLIC
DESCRIPTION:Konfirmation mit Abendmahl
LOCATION:Barenburg - Heilig-Kreuz-Kirche\, Im Flecken 29\, 27245\, Barenbur
 g
SUMMARY:Gottesdienst in Barenburg mit Pastor Thies
END:VEVENT
END:VCALENDAR
