BEGIN:VCALENDAR
VERSION:2.0
PRODID:icalendar-ruby
CALSCALE:GREGORIAN
BEGIN:VEVENT
DTSTAMP:20260319T095940Z
UID:event-occurrence-4e2ffa9d-4678-452d-97e8-384fd69d9649-event-a8ee3c35-af
 b2-4dba-8180-f31b69e1f460@termine-e
DTSTART:20260510T110000
DTEND:20260510T000000
CLASS:PUBLIC
DESCRIPTION:Rogate
LOCATION:Auferstehungskirche\, Helmstedter Str. 59\, 30519\, Hannover
SUMMARY:Konfirmation mit Abendmahl - Pastor Dr. Wohlers
END:VEVENT
END:VCALENDAR
