BEGIN:VCALENDAR
VERSION:2.0
PRODID:icalendar-ruby
CALSCALE:GREGORIAN
BEGIN:VEVENT
DTSTAMP:20260407T101647Z
UID:event-occurrence-3809bd6f-98a3-44c6-a424-d9791cf430d2-event-a8e50114-91
 82-46da-aa45-6c2394d211e9@termine-e
DTSTART:20260531T111500
DTEND:20260531T000000
CLASS:PUBLIC
DESCRIPTION:TrinitatisTaufgottesdienstMusikal. Gestaltung: Ursula Hörsch (
 Stedesdorf)Liturg. Leitung: Pastor Thiem
LOCATION:St. Nicolaikirche Wittmund\, Am Kirchplatz 2\, 26409\, Wittmund
SUMMARY:Taufgottesdienst
END:VEVENT
END:VCALENDAR
