BEGIN:VCALENDAR
VERSION:2.0
PRODID:icalendar-ruby
CALSCALE:GREGORIAN
BEGIN:VEVENT
DTSTAMP:20260424T154332Z
UID:event-occurrence-50c817f7-28d0-41aa-aec8-368924cc3cb8-event-a80955b4-b2
 0e-4ee9-bf4f-f001f321abc6@termine-e
DTSTART:20260510T170000
DTEND:20260510T000000
CLASS:PUBLIC
DESCRIPTION:Eine Veranstaltung im Rahmen des Mitsingfestivals:10. Mai 2026\
 , 17:00 Uhr: Mitmachkonzert\, Musik zum Mitmachen und Zuhören\, Friedensk
 irche Munster-Breloh\, Fried­hofs­weg 4\, 29633 Munster
LOCATION:Friedenskirche in Breloh\, Gustav-Meyer-Straße 62\, 29633\, Munst
 er
SUMMARY:Mitmachkonzert
END:VEVENT
END:VCALENDAR
