BEGIN:VCALENDAR
VERSION:2.0
PRODID:icalendar-ruby
CALSCALE:GREGORIAN
BEGIN:VEVENT
DTSTAMP:20260420T144640Z
UID:event-occurrence-c3e670b8-443a-4d78-992b-41e15e40c0f3-event-a74284a6-74
 73-4b54-ae2a-3db5f252b2c8@termine-e
DTSTART:20260510T000000
DTEND:20260510T000000
CLASS:PUBLIC
LOCATION:
SUMMARY:Kirche Kunterbunt
END:VEVENT
END:VCALENDAR
