BEGIN:VCALENDAR
VERSION:2.0
PRODID:icalendar-ruby
CALSCALE:GREGORIAN
BEGIN:VEVENT
DTSTAMP:20260424T134705Z
UID:event-occurrence-0f1589ed-9975-471c-a97c-8657b6b09395-event-a676cdbd-c7
 ac-421c-8410-b78a49bd33e4@termine-e
DTSTART:20260503T100000
DTEND:20260503T000000
CLASS:PUBLIC
DESCRIPTION:mit Prior Arend de Vries und Chören der Region (musikalische L
 eitung: Michael Merkel)\; Auftakt des Mitsingfestivals „Wer singt\, blü
 ht auf“ in Loccum
LOCATION:Klosterkirche Loccum\, Kloster 9\, 31547\, Rehburg-Loccum
SUMMARY:Gottesdienst – Kantate
END:VEVENT
END:VCALENDAR
