BEGIN:VCALENDAR
VERSION:2.0
PRODID:icalendar-ruby
CALSCALE:GREGORIAN
BEGIN:VEVENT
DTSTAMP:20260425T095709Z
UID:event-occurrence-44d3967f-8424-4269-8909-2dbb696b0f65-event-a53eeea8-c3
 b4-4bd6-8f90-466ce01982fd@termine-e
DTSTART:20260606T093000
DTEND:20260606T000000
CLASS:PUBLIC
DESCRIPTION:Vom Schreibtisch zur „Pilgerlegende“Was passiert\, wenn man
  rund 3000 km zu Fuß auf dem Jakobsweg vonder eigenen Haustür in Bremerv
 örde nach Santiago de Compostela unddarüber hinaus an das "Ende der Welt
 " in Spanien läuft?Die Bremervörderin Nina Baucke hat sich 2025 ein halb
 es Jahrberufliche Auszeit genommen und sich mit ihrem grünen Rucksack auf
 den Weg gemacht\, für sich diese Frage zu beantworten. Sie pilgert3000 Ki
 lometer durch Deutschland\, Belgien\, Frankreich und über diePyrenäen na
 ch Spani...
LOCATION:Kirchengemeinde Etelsen\, Am Denkmal 6\, 27299\, Langwedel-Etelsen
SUMMARY:Frauenfrühstück in Etelsen
END:VEVENT
END:VCALENDAR
