BEGIN:VCALENDAR
VERSION:2.0
PRODID:icalendar-ruby
CALSCALE:GREGORIAN
BEGIN:VEVENT
DTSTAMP:20260420T142503Z
UID:event-occurrence-8f54f49b-446b-4900-a701-0109dfcee1b1-event-a482e11f-91
 fd-44c3-9280-ffe5f8810f5f@termine-e
DTSTART:20260426T000000
DTEND:20260426T000000
CLASS:PUBLIC
LOCATION:
SUMMARY:Konfirmationsgottesdienst um 09.30 Uhr (Gruppe I)
END:VEVENT
END:VCALENDAR
